BEGIN:VCALENDAR
VERSION:2.0
PRODID:-//pretix//pretix.eu//
BEGIN:VTIMEZONE
TZID:Europe/Berlin
BEGIN:STANDARD
DTSTART:20001029T040000
RRULE:FREQ=YEARLY;BYDAY=-1SU;BYMONTH=10
TZNAME:CET
TZOFFSETFROM:+0200
TZOFFSETTO:+0100
END:STANDARD
BEGIN:DAYLIGHT
DTSTART:20000326T030000
RRULE:FREQ=YEARLY;BYDAY=-1SU;BYMONTH=3
TZNAME:CEST
TZOFFSETFROM:+0100
TZOFFSETTO:+0200
END:DAYLIGHT
END:VTIMEZONE
BEGIN:VEVENT
UID:pretix-pekrieger-sisters-26-0@tickets.pekrieger.de
DTSTART;TZID=Europe/Berlin:20261109T193000
DTEND;TZID=Europe/Berlin:20261109T214500
DESCRIPTION:Tickets: https://tickets.pekrieger.de/sisters-26/\nEinlass: 09.
 11.2026 18:30\nVeranstalter: Pe Krieger Tickets
DTSTAMP:20260423T112500Z
LOCATION:Kufa Krefeld\, Diessemer Strasse 13
SUMMARY:Sisters of Comedy 26 - Krefeld
END:VEVENT
END:VCALENDAR
